Workbook
Name _DLX1.USE: Data_Current!$A$2:$H$10
Name _DLX1.USE: #REF!
Name _DLX10.USE: #REF!
Name _DLX11.USE: #REF!
Name _DLX2.USE: #REF!
Name _DLX3.USE: #REF!
Name _DLX4.USE: 'Labor Force Data'!$A$1:$D$9
Name _DLX5.USE: 'Birth Rate Data'!$A$1:$C$9
Name _DLX6.USE: #REF!
Name _DLX7.USE: #REF!
Name _DLX8.USE: #REF!
Name _DLX9.USE: #REF!

Sheet Data_Current
C1: Real GDP | D1: Hours Worked | E1: Employment | F1: Labor Force | G1: Working Age Population | H1: Total Population | J1: Everything in Thousands | Q1: Calculations | V1: %change
A2: 1948 *Y | B2: .excel_last | C2: GDPHA@USECON | D2: LXEHL@USECON | E2: LE@USECON | F2: LF@USECON | G2: POP15WJ@USECON | H2: POP@USECON
A3: .DESC | C3: Real Gross Domestic Product (Bil.Chn.2017$) | D3: Total Economy: Hours Worked (SAAR, Bil.Hrs) | E3: Civilian Employment: Sixteen Years & Over (SA, Thous) | F3: Civilian Labor Force: 16 yr + (SA, Thous) | G3: Resident Working Age Population: 15 - 64 Years (Thous) | H3: Resident Population: Total [All Ages] (Thous)
A4: .T1 | C4: 1929 | D4: 1948 <- Q1-1948 | E4: 1948 <- Jan-1948 | F4: 1948 <- Jan-1948 | G4: 1901 | H4: 1901
A5: .TN | C5: 2025 | D5: 2024 <- Q3-2025 | E5: 2025 <- Feb-2026 | F5: 2025 <- Feb-2026 | G5: 2099 | H5: 2025
A6: .LSOURCE | C6: Bureau of Economic Analysis | D6: Bureau of Labor Statistics | E6: Bureau of Labor Statistics | F6: Bureau of Labor Statistics | G6: Census Bureau | H6: Census Bureau
A7: .MAG | C7: 9 | D7: 9 | E7: 3 | F7: 3 | G7: 3 | H7: 3
A8: .GRP | C8: N20 | D8: E80 | E8: E02 | F8: E02 | G8: D08 | H8: D01
A9: .GRPDESC | C9: Annual NIPA Series | D9: Productivity & Unit Costs, Quarterly | E9: Household Survey Press Release, SA | F9: Household Survey Press Release, SA | G9: Resident Population Projections: By Age & Sex | H9: Resident Population Estimates: By Age & Sex
A10: .GEO | C10: 111 | D10: 111 | E10: 111 | F10: 111 | G10: 111 | H10: 111 | J10: Real GDP | K10: Hours Worked | L10: Employment | M10: Labor Force | N10: Working Age Population | O10: Total Population | Q10: GDP/H | R10: H/W | S10: W/LF | T10: LF/Pop_W | U10: Pop_W/POP | V10: GDP/H | W10: H/W | X10: W/LF | Y10: LF/Pop_W | Z10: Pop_W/POP | AA10: SUM | AB10: GDP/POP | AC10: Growth Rate | AD10: Average Growth Rate: Total
A11: 1948 | B11: 17898 | C11: 2274.6 | D11: 124.94025 | E11: 58358.083 | F11: 60634.5 | G11: 96547 | H11: 146093 | J11: =C11*1000000 -> 2274600000 | K11: =D11*1000000 -> 124940250 | L11: =E11 -> 58358.083 | M11: =F11 -> 60634.5 | N11: =G11 -> 96547 | O11: =H11 -> 146093 | Q11: =J11/K11 -> 18.205502 | R11: =K11/L11 -> 2140.9245 | S11: =L11/M11 -> 0.96245674 | T11: =M11/N11 -> 0.62803091 | U11: =N11/O11 -> 0.66085986 | AB11: =PRODUCT(Q11:U11) -> 15569.534 | AD11: =AVERAGE(AC12:AC87) -> 1.9974832
A12: 1949 | B12: 18263 | C12: 2261.9 | D12: 122.09725 | E12: 57682.583 | F12: 61394.75 | G12: 97368 | H12: 148665 | J12: =C12*1000000 -> 2261900000 | K12: =D12*1000000 -> 122097250 | L12: =E12 -> 57682.583 | M12: =F12 -> 61394.75 | N12: =G12 -> 97368 | O12: =H12 -> 148665 | Q12: =J12/K12 -> 18.525397 | R12: =K12/L12 -> 2116.7091 | S12: =L12/M12 -> 0.93953609 | T12: =M12/N12 -> 0.6305434 | U12: =N12/O12 -> 0.65494905 | V12: =((Q12/Q11)-1)*100 -> 1.7571311 | W12: =((R12/R11)-1)*100 -> -1.131071 | X12: =((S12/S11)-1)*100 -> -2.3814735 | Y12: =((T12/T11)-1)*100 -> 0.40005915 | Z12: =((U12/U11)-1)*100 -> -0.89441303 | AA12: =SUM(V12:Z12) -> -2.2497674 | AB12: =PRODUCT(Q12:U12) -> 15214.745 | AC12: =((AB12/AB11)-1)*100 -> -2.2787445 | AD12: Average Growth Rate: 1948-1973
A13: 1950 | B13: 18628 | C13: 2458.5 | D13: 124.30975 | E13: 58891.667 | F13: 62121.667 | G13: 98474 | H13: 151868 | J13: =C13*1000000 -> 2458500000 | K13: =D13*1000000 -> 124309750 | L13: =E13 -> 58891.667 | M13: =F13 -> 62121.667 | N13: =G13 -> 98474 | O13: =H13 -> 151868 | Q13: =J13/K13 -> 19.77721 | R13: =K13/L13 -> 2110.8207 | S13: =L13/M13 -> 0.94800526 | T13: =M13/N13 -> 0.63084334 | U13: =N13/O13 -> 0.64841836 | V13: =((Q13/Q12)-1)*100 -> 6.7572803 | W13: =((R13/R12)-1)*100 -> -0.27818657 | X13: =((S13/S12)-1)*100 -> 0.90142029 | Y13: =((T13/T12)-1)*100 -> 0.047567483 | Z13: =((U13/U12)-1)*100 -> -0.99712844 | AA13: =SUM(V13:Z13) -> 6.4309531 | AB13: =PRODUCT(Q13:U13) -> 16188.4 | AC13: =((AB13/AB12)-1)*100 -> 6.3994232 | AD13: =AVERAGE(AC12:AC36) -> 2.5386456
A14: 1951 | B14: 18993 | C14: 2656.3 | D14: 131.4825 | E14: 59966.75 | F14: 62016.667 | G14: 98680 | H14: 153982 | J14: =C14*1000000 -> 2656300000 | K14: =D14*1000000 -> 1.314825e+08 | L14: =E14 -> 59966.75 | M14: =F14 -> 62016.667 | N14: =G14 -> 98680 | O14: =H14 -> 153982 | Q14: =J14/K14 -> 20.202689 | R14: =K14/L14 -> 2192.5901 | S14: =L14/M14 -> 0.96694571 | T14: =M14/N14 -> 0.62846237 | U14: =N14/O14 -> 0.64085413 | V14: =((Q14/Q13)-1)*100 -> 2.1513592 | W14: =((R14/R13)-1)*100 -> 3.8738176 | X14: =((S14/S13)-1)*100 -> 1.9979272 | Y14: =((T14/T13)-1)*100 -> -0.37742588 | Z14: =((U14/U13)-1)*100 -> -1.1665674 | AA14: =SUM(V14:Z14) -> 6.4791107 | AB14: =PRODUCT(Q14:U14) -> 17250.718 | AC14: =((AB14/AB13)-1)*100 -> 6.562212 | AD14: Average Growth Rate: 1973-1995
A15: 1952 | B15: 19359 | C15: 2764.8 | D15: 132.84425 | E15: 60272.417 | F15: 62152.667 | G15: 99105 | H15: 156393 | J15: =C15*1000000 -> 2764800000 | K15: =D15*1000000 -> 1.3284425e+08 | L15: =E15 -> 60272.417 | M15: =F15 -> 62152.667 | N15: =G15 -> 99105 | O15: =H15 -> 156393 | Q15: =J15/K15 -> 20.812342 | R15: =K15/L15 -> 2204.0638 | S15: =L15/M15 -> 0.96974788 | T15: =M15/N15 -> 0.62713957 | U15: =N15/O15 -> 0.63369205 | V15: =((Q15/Q14)-1)*100 -> 3.017686 | W15: =((R15/R14)-1)*100 -> 0.52329487 | X15: =((S15/S14)-1)*100 -> 0.28979552 | Y15: =((T15/T14)-1)*100 -> -0.21048264 | Z15: =((U15/U14)-1)*100 -> -1.1175836 | AA15: =SUM(V15:Z15) -> 2.5027101 | AB15: =PRODUCT(Q15:U15) -> 17678.541 | AC15: =((AB15/AB14)-1)*100 -> 2.4800301 | AD15: =AVERAGE(AC36:AC58) -> 1.9544182
A16: 1953 | B16: 19724 | C16: 2894.4 | D16: 134.32575 | E16: 61206.25 | F16: 63056 | G16: 99697 | H16: 158956 | J16: =C16*1000000 -> 2894400000 | K16: =D16*1000000 -> 134325750 | L16: =E16 -> 61206.25 | M16: =F16 -> 63056 | N16: =G16 -> 99697 | O16: =H16 -> 158956 | Q16: =J16/K16 -> 21.547618 | R16: =K16/L16 -> 2194.6411 | S16: =L16/M16 -> 0.97066496 | T16: =M16/N16 -> 0.6324764 | U16: =N16/O16 -> 0.62719872 | V16: =((Q16/Q15)-1)*100 -> 3.532885 | W16: =((R16/R15)-1)*100 -> -0.42751492 | X16: =((S16/S15)-1)*100 -> 0.094569487 | Y16: =((T16/T15)-1)*100 -> 0.85098087 | Z16: =((U16/U15)-1)*100 -> -1.0246812 | AA16: =SUM(V16:Z16) -> 3.0262392 | AB16: =PRODUCT(Q16:U16) -> 18208.813 | AC16: =((AB16/AB15)-1)*100 -> 2.9995231 | AD16: Average Growth Rate: 1995-2007
A17: 1954 | B17: 20089 | C17: 2877.7 | D17: 130.37725 | E17: 60106.583 | F17: 63672.083 | G17: 100529 | H17: 161884 | J17: =C17*1000000 -> 2877700000 | K17: =D17*1000000 -> 130377250 | L17: =E17 -> 60106.583 | M17: =F17 -> 63672.083 | N17: =G17 -> 100529 | O17: =H17 -> 161884 | Q17: =J17/K17 -> 22.072102 | R17: =K17/L17 -> 2169.101 | S17: =L17/M17 -> 0.94400215 | T17: =M17/N17 -> 0.6333703 | U17: =N17/O17 -> 0.62099405 | V17: =((Q17/Q16)-1)*100 -> 2.4340691 | W17: =((R17/R16)-1)*100 -> -1.163747 | X17: =((S17/S16)-1)*100 -> -2.7468611 | Y17: =((T17/T16)-1)*100 -> 0.14133348 | Z17: =((U17/U16)-1)*100 -> -0.98926805 | AA17: =SUM(V17:Z17) -> -2.3244736 | AB17: =PRODUCT(Q17:U17) -> 17776.309 | AC17: =((AB17/AB16)-1)*100 -> -2.375243 | AD17: =AVERAGE(AC58:AC70) -> 2.1483854
A18: 1955 | B18: 20454 | C18: 3083 | D18: 134.66475 | E18: 62130.5 | F18: 64964.333 | G18: 101591 | H18: 165069 | J18: =C18*1000000 -> 3083000000 | K18: =D18*1000000 -> 134664750 | L18: =E18 -> 62130.5 | M18: =F18 -> 64964.333 | N18: =G18 -> 101591 | O18: =H18 -> 165069 | Q18: =J18/K18 -> 22.89389 | R18: =K18/L18 -> 2167.45 | S18: =L18/M18 -> 0.95637863 | T18: =M18/N18 -> 0.63946938 | U18: =N18/O18 -> 0.61544566 | V18: =((Q18/Q17)-1)*100 -> 3.7231972 | W18: =((R18/R17)-1)*100 -> -0.076116122 | X18: =((S18/S17)-1)*100 -> 1.311065 | Y18: =((T18/T17)-1)*100 -> 0.96295502 | Z18: =((U18/U17)-1)*100 -> -0.89346799 | AA18: =SUM(V18:Z18) -> 5.0276331 | AB18: =PRODUCT(Q18:U18) -> 18677.038 | AC18: =((AB18/AB17)-1)*100 -> 5.06702 | AD18: Average Growth Rate: 2007-2024
A19: 1956 | B19: 20820 | C19: 3148.8 | D19: 136.901 | E19: 63792.417 | F19: 66537.333 | G19: 102577 | H19: 168088 | J19: =C19*1000000 -> 3148800000 | K19: =D19*1000000 -> 136901000 | L19: =E19 -> 63792.417 | M19: =F19 -> 66537.333 | N19: =G19 -> 102577 | O19: =H19 -> 168088 | Q19: =J19/K19 -> 23.000562 | R19: =K19/L19 -> 2146.0388 | S19: =L19/M19 -> 0.95874622 | T19: =M19/N19 -> 0.64865743 | U19: =N19/O19 -> 0.61025772 | V19: =((Q19/Q18)-1)*100 -> 0.46594201 | W19: =((R19/R18)-1)*100 -> -0.9878514 | X19: =((S19/S18)-1)*100 -> 0.24755775 | Y19: =((T19/T18)-1)*100 -> 1.436825 | Z19: =((U19/U18)-1)*100 -> -0.84295662 | AA19: =SUM(V19:Z19) -> 0.31951672 | AB19: =PRODUCT(Q19:U19) -> 18733.045 | AC19: =((AB19/AB18)-1)*100 -> 0.29986826 | AD19: =AVERAGE(AC70:AC87) -> 1.2544746
A20: 1957 | B20: 21185 | C20: 3215.1 | D20: 135.6685 | E20: 64064.833 | F20: 66942.25 | G20: 103635 | H20: 171187 | J20: =C20*1000000 -> 3215100000 | K20: =D20*1000000 -> 135668500 | L20: =E20 -> 64064.833 | M20: =F20 -> 66942.25 | N20: =G20 -> 103635 | O20: =H20 -> 171187 | Q20: =J20/K20 -> 23.698206 | R20: =K20/L20 -> 2117.6751 | S20: =L20/M20 -> 0.95701643 | T20: =M20/N20 -> 0.64594249 | U20: =N20/O20 -> 0.6053906 | V20: =((Q20/Q19)-1)*100 -> 3.0331567 | W20: =((R20/R19)-1)*100 -> -1.3216777 | X20: =((S20/S19)-1)*100 -> -0.1804215 | Y20: =((T20/T19)-1)*100 -> -0.41854771 | Z20: =((U20/U19)-1)*100 -> -0.79755253 | AA20: =SUM(V20:Z20) -> 0.31495726 | AB20: =PRODUCT(Q20:U20) -> 18781.216 | AC20: =((AB20/AB19)-1)*100 -> 0.25714596
A21: 1958 | B21: 21550 | C21: 3191.2 | D21: 130.9265 | E21: 63043 | F21: 67670.083 | G21: 104971 | H21: 174149 | J21: =C21*1000000 -> 3191200000 | K21: =D21*1000000 -> 1.309265e+08 | L21: =E21 -> 63043 | M21: =F21 -> 67670.083 | N21: =G21 -> 104971 | O21: =H21 -> 174149 | Q21: =J21/K21 -> 24.373981 | R21: =K21/L21 -> 2076.7809 | S21: =L21/M21 -> 0.93162291 | T21: =M21/N21 -> 0.64465503 | U21: =N21/O21 -> 0.60276545 | V21: =((Q21/Q20)-1)*100 -> 2.8515884 | W21: =((R21/R20)-1)*100 -> -1.9310865 | X21: =((S21/S20)-1)*100 -> -2.6534051 | Y21: =((T21/T20)-1)*100 -> -0.19931477 | Z21: =((U21/U20)-1)*100 -> -0.43362885 | AA21: =SUM(V21:Z21) -> -2.3658468 | AB21: =PRODUCT(Q21:U21) -> 18324.538 | AC21: =((AB21/AB20)-1)*100 -> -2.4315661
A22: 1959 | B22: 21915 | C22: 3412.4 | D22: 135.7025 | E22: 64628.5 | F22: 68359.333 | G22: 106147 | H22: 177135 | J22: =C22*1000000 -> 3412400000 | K22: =D22*1000000 -> 135702500 | L22: =E22 -> 64628.5 | M22: =F22 -> 68359.333 | N22: =G22 -> 106147 | O22: =H22 -> 177135 | Q22: =J22/K22 -> 25.146184 | R22: =K22/L22 -> 2099.7315 | S22: =L22/M22 -> 0.9454232 | T22: =M22/N22 -> 0.64400627 | U22: =N22/O22 -> 0.59924351 | V22: =((Q22/Q21)-1)*100 -> 3.1681445 | W22: =((R22/R21)-1)*100 -> 1.1051053 | X22: =((S22/S21)-1)*100 -> 1.4813176 | Y22: =((T22/T21)-1)*100 -> -0.10063734 | Z22: =((U22/U21)-1)*100 -> -0.58429579 | AA22: =SUM(V22:Z22) -> 5.0696342 | AB22: =PRODUCT(Q22:U22) -> 19264.403 | AC22: =((AB22/AB21)-1)*100 -> 5.1289951
A23: 1960 | B23: 22281 | C23: 3500.3 | D23: 136.702 | E23: 65784.5 | F23: 69658.667 | G23: 107226 | H23: 179979 | J23: =C23*1000000 -> 3500300000 | K23: =D23*1000000 -> 136702000 | L23: =E23 -> 65784.5 | M23: =F23 -> 69658.667 | N23: =G23 -> 107226 | O23: =H23 -> 179979 | Q23: =J23/K23 -> 25.605331 | R23: =K23/L23 -> 2078.0275 | S23: =L23/M23 -> 0.94438357 | T23: =M23/N23 -> 0.64964343 | U23: =N23/O23 -> 0.59576951 | V23: =((Q23/Q22)-1)*100 -> 1.8259135 | W23: =((R23/R22)-1)*100 -> -1.033658 | X23: =((S23/S22)-1)*100 -> -0.10996549 | Y23: =((T23/T22)-1)*100 -> 0.87532754 | Z23: =((U23/U22)-1)*100 -> -0.57973233 | AA23: =SUM(V23:Z23) -> 0.97788516 | AB23: =PRODUCT(Q23:U23) -> 19448.38 | AC23: =((AB23/AB22)-1)*100 -> 0.95501134
A24: 1961 | B24: 22646 | C24: 3590.1 | D24: 135.76975 | E24: 65744.25 | F24: 70449.917 | G24: 108351 | H24: 182992 | J24: =C24*1000000 -> 3590100000 | K24: =D24*1000000 -> 135769750 | L24: =E24 -> 65744.25 | M24: =F24 -> 70449.917 | N24: =G24 -> 108351 | O24: =H24 -> 182992 | Q24: =J24/K24 -> 26.442562 | R24: =K24/L24 -> 2065.1198 | S24: =L24/M24 -> 0.9332055 | T24: =M24/N24 -> 0.65020089 | U24: =N24/O24 -> 0.59210785 | V24: =((Q24/Q23)-1)*100 -> 3.2697505 | W24: =((R24/R23)-1)*100 -> -0.62115326 | X24: =((S24/S23)-1)*100 -> -1.1836357 | Y24: =((T24/T23)-1)*100 -> 0.085809851 | Z24: =((U24/U23)-1)*100 -> -0.61460929 | AA24: =SUM(V24:Z24) -> 0.9361621 | AB24: =PRODUCT(Q24:U24) -> 19618.89 | AC24: =((AB24/AB23)-1)*100 -> 0.87673294
A25: 1962 | B25: 23011 | C25: 3810.1 | D25: 139.1935 | E25: 66701.667 | F25: 70619.417 | G25: 110411 | H25: 185771 | J25: =C25*1000000 -> 3810100000 | K25: =D25*1000000 -> 139193500 | L25: =E25 -> 66701.667 | M25: =F25 -> 70619.417 | N25: =G25 -> 110411 | O25: =H25 -> 185771 | Q25: =J25/K25 -> 27.372686 | R25: =K25/L25 -> 2086.8069 | S25: =L25/M25 -> 0.94452305 | T25: =M25/N25 -> 0.6396049 | U25: =N25/O25 -> 0.59433927 | V25: =((Q25/Q24)-1)*100 -> 3.5175278 | W25: =((R25/R24)-1)*100 -> 1.0501649 | X25: =((S25/S24)-1)*100 -> 1.2127601 | Y25: =((T25/T24)-1)*100 -> -1.6296486 | Z25: =((U25/U24)-1)*100 -> 0.37685963 | AA25: =SUM(V25:Z25) -> 4.5276638 | AB25: =PRODUCT(Q25:U25) -> 20509.66 | AC25: =((AB25/AB24)-1)*100 -> 4.5403653
A26: 1963 | B26: 23376 | C26: 3976.1 | D26: 140.31925 | E26: 67759.5 | F26: 71812.167 | G26: 112240 | H26: 188483 | J26: =C26*1000000 -> 3976100000 | K26: =D26*1000000 -> 140319250 | L26: =E26 -> 67759.5 | M26: =F26 -> 71812.167 | N26: =G26 -> 112240 | O26: =H26 -> 188483 | Q26: =J26/K26 -> 28.336098 | R26: =K26/L26 -> 2070.8425 | S26: =L26/M26 -> 0.94356574 | T26: =M26/N26 -> 0.63980904 | U26: =N26/O26 -> 0.59549137 | V26: =((Q26/Q25)-1)*100 -> 3.5196094 | W26: =((R26/R25)-1)*100 -> -0.76501862 | X26: =((S26/S25)-1)*100 -> -0.10135384 | Y26: =((T26/T25)-1)*100 -> 0.031916528 | Z26: =((U26/U25)-1)*100 -> 0.19384609 | AA26: =SUM(V26:Z26) -> 2.8789996 | AB26: =PRODUCT(Q26:U26) -> 21095.271 | AC26: =((AB26/AB25)-1)*100 -> 2.8552958
A27: 1964 | B27: 23742 | C27: 4205.3 | D27: 144.21925 | E27: 69301.417 | F27: 73077.25 | G27: 114067 | H27: 191141 | J27: =C27*1000000 -> 4205300000 | K27: =D27*1000000 -> 1.4421925e+08 | L27: =E27 -> 69301.417 | M27: =F27 -> 73077.25 | N27: =G27 -> 114067 | O27: =H27 -> 191141 | Q27: =J27/K27 -> 29.159076 | R27: =K27/L27 -> 2081.0433 | S27: =L27/M27 -> 0.94833093 | T27: =M27/N27 -> 0.64065199 | U27: =N27/O27 -> 0.59676888 | V27: =((Q27/Q26)-1)*100 -> 2.9043436 | W27: =((R27/R26)-1)*100 -> 0.4925943 | X27: =((S27/S26)-1)*100 -> 0.50501997 | Y27: =((T27/T26)-1)*100 -> 0.13174948 | Z27: =((U27/U26)-1)*100 -> 0.21452987 | AA27: =SUM(V27:Z27) -> 4.2482372 | AB27: =PRODUCT(Q27:U27) -> 22001.036 | AC27: =((AB27/AB26)-1)*100 -> 4.2936859
A28: 1965 | B28: 24107 | C28: 4478.6 | D28: 149.16825 | E28: 71070.333 | F28: 74424 | G28: 115824 | H28: 193526 | J28: =C28*1000000 -> 4478600000 | K28: =D28*1000000 -> 149168250 | L28: =E28 -> 71070.333 | M28: =F28 -> 74424 | N28: =G28 -> 115824 | O28: =H28 -> 193526 | Q28: =J28/K28 -> 30.023815 | R28: =K28/L28 -> 2098.8821 | S28: =L28/M28 -> 0.95493837 | T28: =M28/N28 -> 0.64256113 | U28: =N28/O28 -> 0.59849323 | V28: =((Q28/Q27)-1)*100 -> 2.9655943 | W28: =((R28/R27)-1)*100 -> 0.85720352 | X28: =((S28/S27)-1)*100 -> 0.69674393 | Y28: =((T28/T27)-1)*100 -> 0.29799986 | Z28: =((U28/U27)-1)*100 -> 0.28894742 | AA28: =SUM(V28:Z28) -> 5.106489 | AB28: =PRODUCT(Q28:U28) -> 23142.11 | AC28: =((AB28/AB27)-1)*100 -> 5.1864568
A29: 1966 | B29: 24472 | C29: 4773.9 | D29: 154.405 | E29: 72878 | F29: 75744.583 | G29: 117564 | H29: 195576 | J29: =C29*1000000 -> 4773900000 | K29: =D29*1000000 -> 154405000 | L29: =E29 -> 72878 | M29: =F29 -> 75744.583 | N29: =G29 -> 117564 | O29: =H29 -> 195576 | Q29: =J29/K29 -> 30.91804 | R29: =K29/L29 -> 2118.6778 | S29: =L29/M29 -> 0.96215461 | T29: =M29/N29 -> 0.64428382 | U29: =N29/O29 -> 0.6011167 | V29: =((Q29/Q28)-1)*100 -> 2.9783851 | W29: =((R29/R28)-1)*100 -> 0.94315431 | X29: =((S29/S28)-1)*100 -> 0.75567582 | Y29: =((T29/T28)-1)*100 -> 0.2680983 | Z29: =((U29/U28)-1)*100 -> 0.43834677 | AA29: =SUM(V29:Z29) -> 5.3836603 | AB29: =PRODUCT(Q29:U29) -> 24409.437 | AC29: =((AB29/AB28)-1)*100 -> 5.4762795
A30: 1967 | B30: 24837 | C30: 4904.9 | D30: 156.1385 | E30: 74375.833 | F30: 77347.667 | G30: 119328 | H30: 197457 | J30: =C30*1000000 -> 4904900000 | K30: =D30*1000000 -> 1.561385e+08 | L30: =E30 -> 74375.833 | M30: =F30 -> 77347.667 | N30: =G30 -> 119328 | O30: =H30 -> 197457 | Q30: =J30/K30 -> 31.413777 | R30: =K30/L30 -> 2099.3177 | S30: =L30/M30 -> 0.96157824 | T30: =M30/N30 -> 0.64819377 | U30: =N30/O30 -> 0.60432398 | V30: =((Q30/Q29)-1)*100 -> 1.6033896 | W30: =((R30/R29)-1)*100 -> -0.91378385 | X30: =((S30/S29)-1)*100 -> -0.059903839 | Y30: =((T30/T29)-1)*100 -> 0.60686784 | Z30: =((U30/U29)-1)*100 -> 0.53355329 | AA30: =SUM(V30:Z30) -> 1.7701231 | AB30: =PRODUCT(Q30:U30) -> 24840.345 | AC30: =((AB30/AB29)-1)*100 -> 1.7653347
A31: 1968 | B31: 25203 | C31: 5145.9 | D31: 158.963 | E31: 75913 | F31: 78710.417 | G31: 121349 | H31: 199399 | J31: =C31*1000000 -> 5145900000 | K31: =D31*1000000 -> 158963000 | L31: =E31 -> 75913 | M31: =F31 -> 78710.417 | N31: =G31 -> 121349 | O31: =H31 -> 199399 | Q31: =J31/K31 -> 32.371684 | R31: =K31/L31 -> 2094.0155 | S31: =L31/M31 -> 0.96445938 | T31: =M31/N31 -> 0.64862847 | U31: =N31/O31 -> 0.60857376 | V31: =((Q31/Q30)-1)*100 -> 3.0493217 | W31: =((R31/R30)-1)*100 -> -0.25256478 | X31: =((S31/S30)-1)*100 -> 0.29962641 | Y31: =((T31/T30)-1)*100 -> 0.067063244 | Z31: =((U31/U30)-1)*100 -> 0.70322954 | AA31: =SUM(V31:Z31) -> 3.8666761 | AB31: =PRODUCT(Q31:U31) -> 25807.05 | AC31: =((AB31/AB30)-1)*100 -> 3.8916738
... A87: 2024 | B87: 45657 | C87: 23358.4 | D87: 295.51475 | E87: 161348 | F87: 168110.17 | G87: 216579 | H87: 340004 | J87: =C87*1000000 -> 23358400000 | K87: =D87*1000000 -> 295514750 | L87: =E87 -> 161348 | M87: =F87 -> 168110.17 | N87: =G87 -> 216579 | O87: =H87 -> 340004 | Q87: =J87/K87 -> 79.043093 | R87: =K87/L87 -> 1831.5365 | S87: =L87/M87 -> 0.95977539 | T87: =M87/N87 -> 0.77620714 | U87: =N87/O87 -> 0.63698956 | V87: =((Q87/Q86)-1)*100 -> 2.1111703 | W87: =((R87/R86)-1)*100 -> 0.47625462 | X87: =((S87/S86)-1)*100 -> -0.40072659 | Y87: =((T87/T86)-1)*100 -> 0.50275708 | Z87: =((U87/U86)-1)*100 -> -0.86586243 | AA87: =SUM(V87:Z87) -> 1.823593 | AB87: =PRODUCT(Q87:U87) -> 68700.368 | AC87: =((AB87/AB86)-1)*100 -> 1.8108517
Z89: =V87+W87+X87+Y87+Z87 -> 1.823593

Sheet Data_Historical
A1: Year | C1: GDP in millions of 1929 dollars | D1: Total Manhours, Including Military (mil) | E1: Total Manhours, Civilian (mil) | F1: Total Employment, includes military (thou) | G1: Total Employment , Civilian (thou) | H1: Resident Population (thou) | I1: in thousands: | J1: GDP in thousands of 1929 dollars | K1: Total Manhours, Including Military | L1: Total Manhours, Civilian | M1: Total Employment, includes military | N1: Total Employment , Civilian | O1: Resident Population | P1: including military: | Q1: GDP/H | R1: H/W | S1: W/POP | T1: GDP/H_gr | U1: H/W_gr | V1: W/POP_gr | W1: SUM | X1: GDP/POP | Y1: growth rate | AA1: excluding military: | AB1: GDP/H | AC1: H/W | AD1: W/POP | AE1: GDP/H_gr | AF1: H/W_gr | AG1: W/POP_gr | AH1: SUM: | AI1: GDP/POP | AJ1: growth rate
A2: 1901 | C2: 42766 | D2: 78764 | E2: 78528 | F2: 28425 | G2: 28309 | H2: 77584 | J2: =C2*1000 -> 42766000 | K2: =D2*1000 -> 78764000 | L2: =E2*1000 -> 78528000 | M2: =F2 -> 28425 | N2: =G2 -> 28309 | O2: =H2 -> 77584 | Q2: =J2/K2 -> 0.54296379 | R2: =K2/M2 -> 2770.9411 | S2: =M2/O2 -> 0.36637709 | X2: =Q2*R2*S2 -> 551.2219 | Z2: Avg Growth Rate | AB2: =J2/L2 -> 0.54459556 | AC2: =L2/N2 -> 2773.9588 | AD2: =N2/O2 -> 0.36488193 | AI2: =AB2*AC2*AD2 -> 551.2219 | AK2: Avg Growth Rate
A3: 1902 | B3: 732 | C3: 43161 | D3: 82109 | E3: 81899 | F3: 29647 | G3: 29544 | H3: 79163 | J3: =C3*1000 -> 43161000 | K3: =D3*1000 -> 82109000 | L3: =E3*1000 -> 81899000 | M3: =F3 -> 29647 | N3: =G3 -> 29544 | O3: =H3 -> 79163 | Q3: =J3/K3 -> 0.52565492 | R3: =K3/M3 -> 2769.5551 | S3: =M3/O3 -> 0.37450577 | T3: =((Q3/Q2-1)*100) -> -3.1878495 | U3: =((R3/R2-1)*100) -> -0.050018194 | V3: =((S3/S2-1)*100) -> 2.2186645 | W3: =SUM(T3:V3) -> -1.0192032 | X3: =Q3*R3*S3 -> 545.21683 | Y3: =((X3/X2-1)*100) -> -1.0894107 | Z3: =AVERAGE(Y3:Y54) -> 1.9563335 | AB3: =J3/L3 -> 0.52700277 | AC3: =L3/N3 -> 2772.1026 | AD3: =N3/O3 -> 0.37320465 | AE3: =((AB3/AB2-1)*100) -> -3.2304315 | AF3: =((AC3/AC2-1)*100) -> -0.06691466 | AG3: =((AD3/AD2-1)*100) -> 2.2809349 | AH3: =SUM(AE3:AG3) -> -1.0164113 | AI3: =AB3*AC3*AD3 -> 545.21683 | AJ3: =((AI3/AI2-1)*100) -> -1.0894107 | AK3: =AVERAGE(AJ3:AJ54) -> 1.9563335
A4: 1903 | B4: 1097 | C4: 45264 | D4: 84524 | E4: 84314 | F4: 30525 | G4: 30422 | H4: 80632 | J4: =C4*1000 -> 45264000 | K4: =D4*1000 -> 84524000 | L4: =E4*1000 -> 84314000 | M4: =F4 -> 30525 | N4: =G4 -> 30422 | O4: =H4 -> 80632 | Q4: =J4/K4 -> 0.53551654 | R4: =K4/M4 -> 2769.009 | S4: =M4/O4 -> 0.37857178 | T4: =((Q4/Q3-1)*100) -> 1.876063 | U4: =((R4/R3-1)*100) -> -0.019717583 | V4: =((S4/S3-1)*100) -> 1.0857019 | W4: =SUM(T4:V4) -> 2.9420474 | X4: =Q4*R4*S4 -> 561.36521 | Y4: =((X4/X3-1)*100) -> 2.9618278 | AB4: =J4/L4 -> 0.53685035 | AC4: =L4/N4 -> 2771.4812 | AD4: =N4/O4 -> 0.37729437 | AE4: =((AB4/AB3-1)*100) -> 1.8685999 | AF4: =((AC4/AC3-1)*100) -> -0.022418421 | AG4: =((AD4/AD3-1)*100) -> 1.0958386 | AH4: =SUM(AE4:AG4) -> 2.9420201 | AI4: =AB4*AC4*AD4 -> 561.36521 | AJ4: =((AI4/AI3-1)*100) -> 2.9618278
A5: 1904 | B5: 1462 | C5: 44696 | D5: 83351 | E5: 83130 | F5: 30419 | G5: 30312 | H5: 82166 | J5: =C5*1000 -> 44696000 | K5: =D5*1000 -> 83351000 | L5: =E5*1000 -> 83130000 | M5: =F5 -> 30419 | N5: =G5 -> 30312 | O5: =H5 -> 82166 | Q5: =J5/K5 -> 0.53623832 | R5: =K5/M5 -> 2740.0967 | S5: =M5/O5 -> 0.37021396 | T5: =((Q5/Q4-1)*100) -> 0.13478161 | U5: =((R5/R4-1)*100) -> -1.044141 | V5: =((S5/S4-1)*100) -> -2.2077255 | W5: =SUM(T5:V5) -> -3.1170849 | X5: =Q5*R5*S5 -> 543.97196 | Y5: =((X5/X4-1)*100) -> -3.098385 | AB5: =J5/L5 -> 0.5376639 | AC5: =L5/N5 -> 2742.4782 | AD5: =N5/O5 -> 0.36891172 | AE5: =((AB5/AB4-1)*100) -> 0.15154219 | AF5: =((AC5/AC4-1)*100) -> -1.0464779 | AG5: =((AD5/AD4-1)*100) -> -2.2217822 | AH5: =SUM(AE5:AG5) -> -3.1167179 | AI5: =AB5*AC5*AD5 -> 543.97196 | AJ5: =((AI5/AI4-1)*100) -> -3.098385
A6: 1905 | B6: 1828 | C6: 48000 | D6: 87459 | E6: 87242 | F6: 31814 | G6: 31709 | H6: 83822 | J6: =C6*1000 -> 48000000 | K6: =D6*1000 -> 87459000 | L6: =E6*1000 -> 87242000 | M6: =F6 -> 31814 | N6: =G6 -> 31709 | O6: =H6 -> 83822 | Q6: =J6/K6 -> 0.54882859 | R6: =K6/M6 -> 2749.0727 | S6: =M6/O6 -> 0.37954236 | T6: =((Q6/Q5-1)*100) -> 2.3478883 | U6: =((R6/R5-1)*100) -> 0.32758279 | V6: =((S6/S5-1)*100) -> 2.5197339 | W6: =SUM(T6:V6) -> 5.1952049 | X6: =Q6*R6*S6 -> 572.64203 | Y6: =((X6/X5-1)*100) -> 5.2705047 | AB6: =J6/L6 -> 0.55019371 | AC6: =L6/N6 -> 2751.3324 | AD6: =N6/O6 -> 0.37828971 | AE6: =((AB6/AB5-1)*100) -> 2.3304176 | AF6: =((AC6/AC5-1)*100) -> 0.32285408 | AG6: =((AD6/AD5-1)*100) -> 2.5420699 | AH6: =SUM(AE6:AG6) -> 5.1953416 | AI6: =AB6*AC6*AD6 -> 572.64203 | AJ6: =((AI6/AI5-1)*100) -> 5.2705047
A7: 1906 | B7: 2193 | C7: 53534 | D7: 90904 | E7: 90679 | F7: 33071 | G7: 32962 | H7: 85450 | J7: =C7*1000 -> 53534000 | K7: =D7*1000 -> 90904000 | L7: =E7*1000 -> 90679000 | M7: =F7 -> 33071 | N7: =G7 -> 32962 | O7: =H7 -> 85450 | Q7: =J7/K7 -> 0.58890698 | R7: =K7/M7 -> 2748.7527 | S7: =M7/O7 -> 0.38702165 | T7: =((Q7/Q6-1)*100) -> 7.3025322 | U7: =((R7/R6-1)*100) -> -0.011642168 | V7: =((S7/S6-1)*100) -> 1.9706065 | W7: =SUM(T7:V7) -> 9.2614965 | X7: =Q7*R7*S7 -> 626.49503 | Y7: =((X7/X6-1)*100) -> 9.4043044 | AB7: =J7/L7 -> 0.59036822 | AC7: =L7/N7 -> 2751.0163 | AD7: =N7/O7 -> 0.38574605 | AE7: =((AB7/AB6-1)*100) -> 7.3018842 | AF7: =((AC7/AC6-1)*100) -> -0.01148925 | AG7: =((AD7/AD6-1)*100) -> 1.9710664 | AH7: =SUM(AE7:AG7) -> 9.2614613 | AI7: =AB7*AC7*AD7 -> 626.49503 | AJ7: =((AI7/AI6-1)*100) -> 9.4043044
A8: 1907 | B8: 2558 | C8: 54393 | D8: 92980 | E8: 92761 | F8: 33848 | G8: 33742 | H8: 87008 | J8: =C8*1000 -> 54393000 | K8: =D8*1000 -> 92980000 | L8: =E8*1000 -> 92761000 | M8: =F8 -> 33848 | N8: =G8 -> 33742 | O8: =H8 -> 87008 | Q8: =J8/K8 -> 0.58499677 | R8: =K8/M8 -> 2746.9865 | S8: =M8/O8 -> 0.3890217 | T8: =((Q8/Q7-1)*100) -> -0.66397673 | U8: =((R8/R7-1)*100) -> -0.064252984 | V8: =((S8/S7-1)*100) -> 0.51677963 | W8: =SUM(T8:V8) -> -0.21145008 | X8: =Q8*R8*S8 -> 625.14941 | Y8: =((X8/X7-1)*100) -> -0.21478459 | AB8: =J8/L8 -> 0.5863779 | AC8: =L8/N8 -> 2749.1257 | AD8: =N8/O8 -> 0.38780342 | AE8: =((AB8/AB7-1)*100) -> -0.67590462 | AF8: =((AC8/AC7-1)*100) -> -0.068723807 | AG8: =((AD8/AD7-1)*100) -> 0.53334831 | AH8: =SUM(AE8:AG8) -> -0.21128011 | AI8: =AB8*AC8*AD8 -> 625.14941 | AJ8: =((AI8/AI7-1)*100) -> -0.21478459
A9: 1908 | B9: 2923 | C9: 49916 | D9: 89188 | E9: 88931 | F9: 33086 | G9: 32961 | H9: 88710 | J9: =C9*1000 -> 49916000 | K9: =D9*1000 -> 89188000 | L9: =E9*1000 -> 88931000 | M9: =F9 -> 33086 | N9: =G9 -> 32961 | O9: =H9 -> 88710 | Q9: =J9/K9 -> 0.5596717 | R9: =K9/M9 -> 2695.6417 | S9: =M9/O9 -> 0.3729681 | T9: =((Q9/Q8-1)*100) -> -4.3290955 | U9: =((R9/R8-1)*100) -> -1.8691343 | V9: =((S9/S8-1)*100) -> -4.1266595 | W9: =SUM(T9:V9) -> -10.324889 | X9: =Q9*R9*S9 -> 562.68741 | Y9: =((X9/X8-1)*100) -> -9.9915319 | AB9: =J9/L9 -> 0.56128909 | AC9: =L9/N9 -> 2698.0674 | AD9: =N9/O9 -> 0.37155901 | AE9: =((AB9/AB8-1)*100) -> -4.2786072 | AF9: =((AC9/AC8-1)*100) -> -1.8572561 | AG9: =((AD9/AD8-1)*100) -> -4.1888253 | AH9: =SUM(AE9:AG9) -> -10.324689 | AI9: =AB9*AC9*AD9 -> 562.68741 | AJ9: =((AI9/AI8-1)*100) -> -9.9915319
A10: 1909 | B10: 3289 | C10: 56003 | D10: 94054 | E10: 93771 | F10: 34785 | G10: 34647 | H10: 90490 | J10: =C10*1000 -> 56003000 | K10: =D10*1000 -> 94054000 | L10: =E10*1000 -> 93771000 | M10: =F10 -> 34785 | N10: =G10 -> 34647 | O10: =H10 -> 90490 | Q10: =J10/K10 -> 0.59543454 | R10: =K10/M10 -> 2703.8666 | S10: =M10/O10 -> 0.38440712 | T10: =((Q10/Q9-1)*100) -> 6.3899662 | U10: =((R10/R9-1)*100) -> 0.30512023 | V10: =((S10/S9-1)*100) -> 3.0670233 | W10: =SUM(T10:V10) -> 9.7621098 | X10: =Q10*R10*S10 -> 618.88606 | Y10: =((X10/X9-1)*100) -> 9.9875447 | AB10: =J10/L10 -> 0.59723155 | AC10: =L10/N10 -> 2706.4681 | AD10: =N10/O10 -> 0.38288209 | AE10: =((AB10/AB9-1)*100) -> 6.4035565 | AF10: =((AC10/AC9-1)*100) -> 0.31135914 | AG10: =((AD10/AD9-1)*100) -> 3.0474497 | AH10: =SUM(AE10:AG10) -> 9.7623653 | AI10: =AB10*AC10*AD10 -> 618.88606 | AJ10: =((AI10/AI9-1)*100) -> 9.9875447
A11: 1910 | B11: 3654 | C11: 56606 | D11: 96605 | E11: 96329 | F11: 35708 | G11: 35573 | H11: 92407 | J11: =C11*1000 -> 56606000 | K11: =D11*1000 -> 96605000 | L11: =E11*1000 -> 96329000 | M11: =F11 -> 35708 | N11: =G11 -> 35573 | O11: =H11 -> 92407 | Q11: =J11/K11 -> 0.58595311 | R11: =K11/M11 -> 2705.4162 | S11: =M11/O11 -> 0.38642094 | T11: =((Q11/Q10-1)*100) -> -1.5923547 | U11: =((R11/R10-1)*100) -> 0.057308451 | V11: =((S11/S10-1)*100) -> 0.52387826 | W11: =SUM(T11:V11) -> -1.0111679 | X11: =Q11*R11*S11 -> 612.57264 | Y11: =((X11/X10-1)*100) -> -1.0201271 | AB11: =J11/L11 -> 0.58763197 | AC11: =L11/N11 -> 2707.9245 | AD11: =N11/O11 -> 0.38496001 | AE11: =((AB11/AB10-1)*100) -> -1.6073471 | AF11: =((AC11/AC10-1)*100) -> 0.053813937 | AG11: =((AD11/AD10-1)*100) -> 0.54270688 | AH11: =SUM(AE11:AG11) -> -1.0108262 | AI11: =AB11*AC11*AD11 -> 612.57264 | AJ11: =((AI11/AI10-1)*100) -> -1.0201271
A12: 1911 | B12: 4019 | C12: 58440 | D12: 98500 | E12: 98211 | F12: 36274 | G12: 36133 | H12: 93863 | J12: =C12*1000 -> 58440000 | K12: =D12*1000 -> 98500000 | L12: =E12*1000 -> 98211000 | M12: =F12 -> 36274 | N12: =G12 -> 36133 | O12: =H12 -> 93863 | Q12: =J12/K12 -> 0.59329949 | R12: =K12/M12 -> 2715.4436 | S12: =M12/O12 -> 0.38645686 | T12: =((Q12/Q11-1)*100) -> 1.2537495 | U12: =((R12/R11-1)*100) -> 0.37064224 | V12: =((S12/S11-1)*100) -> 0.0092943198 | W12: =SUM(T12:V12) -> 1.6336861 | X12: =Q12*R12*S12 -> 622.60955 | Y12: =((X12/X11-1)*100) -> 1.6384844 | AB12: =J12/L12 -> 0.59504536 | AC12: =L12/N12 -> 2718.0417 | AD12: =N12/O12 -> 0.38495467 | AE12: =((AB12/AB11-1)*100) -> 1.2615706 | AF12: =((AC12/AC11-1)*100) -> 0.37361195 | AG12: =((AD12/AD11-1)*100) -> -0.001388684 | AH12: =SUM(AE12:AG12) -> 1.6337938 | AI12: =AB12*AC12*AD12 -> 622.60955 | AJ12: =((AI12/AI11-1)*100) -> 1.6384844
A13: 1912 | B13: 4384 | C13: 61178 | D13: 101647 | E13: 101342 | F13: 37341 | G13: 37192 | H13: 95335 | J13: =C13*1000 -> 61178000 | K13: =D13*1000 -> 101647000 | L13: =E13*1000 -> 101342000 | M13: =F13 -> 37341 | N13: =G13 -> 37192 | O13: =H13 -> 95335 | Q13: =J13/K13 -> 0.60186725 | R13: =K13/M13 -> 2722.1285 | S13: =M13/O13 -> 0.39168196 | T13: =((Q13/Q12-1)*100) -> 1.4440859 | U13: =((R13/R12-1)*100) -> 0.24618162 | V13: =((S13/S12-1)*100) -> 1.3520542 | W13: =SUM(T13:V13) -> 3.0423217 | X13: =Q13*R13*S13 -> 641.71605 | Y13: =((X13/X12-1)*100) -> 3.0687782 | AB13: =J13/L13 -> 0.60367863 | AC13: =L13/N13 -> 2724.8333 | AD13: =N13/O13 -> 0.39011905 | AE13: =((AB13/AB12-1)*100) -> 1.4508593 | AF13: =((AC13/AC12-1)*100) -> 0.24987174 | AG13: =((AD13/AD12-1)*100) -> 1.3415569 | AH13: =SUM(AE13:AG13) -> 3.042288 | AI13: =AB13*AC13*AD13 -> 641.71605 | AJ13: =((AI13/AI12-1)*100) -> 3.0687782
A14: 1913 | B14: 4750 | C14: 63593 | D14: 102466 | E14: 102158 | F14: 37896 | G14: 37745 | H14: 97225 | J14: =C14*1000 -> 63593000 | K14: =D14*1000 -> 102466000 | L14: =E14*1000 -> 102158000 | M14: =F14 -> 37896 | N14: =G14 -> 37745 | O14: =H14 -> 97225 | Q14: =J14/K14 -> 0.62062538 | R14: =K14/M14 -> 2703.8738 | S14: =M14/O14 -> 0.38977629 | T14: =((Q14/Q13-1)*100) -> 3.116656 | U14: =((R14/R13-1)*100) -> -0.67060507 | V14: =((S14/S13-1)*100) -> -0.48653542 | W14: =SUM(T14:V14) -> 1.9595155 | X14: =Q14*R14*S14 -> 654.08074 | Y14: =((X14/X13-1)*100) -> 1.9268158 | AB14: =J14/L14 -> 0.62249652 | AC14: =L14/N14 -> 2706.5307 | AD14: =N14/O14 -> 0.38822319 | AE14: =((AB14/AB13-1)*100) -> 3.1172036 | AF14: =((AC14/AC13-1)*100) -> -0.67169728 | AG14: =((AD14/AD13-1)*100) -> -0.48596966 | AH14: =SUM(AE14:AG14) -> 1.9595367 | AI14: =AB14*AC14*AD14 -> 654.08074 | AJ14: =((AI14/AI13-1)*100) -> 1.9268158
A15: 1914 | B15: 5115 | C15: 58724 | D15: 100745 | E15: 100416 | F15: 37475 | G15: 37314 | H15: 99111 | J15: =C15*1000 -> 58724000 | K15: =D15*1000 -> 100745000 | L15: =E15*1000 -> 100416000 | M15: =F15 -> 37475 | N15: =G15 -> 37314 | O15: =H15 -> 99111 | Q15: =J15/K15 -> 0.58289741 | R15: =K15/M15 -> 2688.3256 | S15: =M15/O15 -> 0.37811141 | T15: =((Q15/Q14-1)*100) -> -6.0790237 | U15: =((R15/R14-1)*100) -> -0.57503459 | V15: =((S15/S14-1)*100) -> -2.9927119 | W15: =SUM(T15:V15) -> -9.6467703 | X15: =Q15*R15*S15 -> 592.50739 | Y15: =((X15/X14-1)*100) -> -9.4137231 | AB15: =J15/L15 -> 0.5848072 | AC15: =L15/N15 -> 2691.1079 | AD15: =N15/O15 -> 0.37648697 | AE15: =((AB15/AB14-1)*100) -> -6.0545435 | AF15: =((AC15/AC14-1)*100) -> -0.56983545 | AG15: =((AD15/AD14-1)*100) -> -3.0230611 | AH15: =SUM(AE15:AG15) -> -9.6474401 | AI15: =AB15*AC15*AD15 -> 592.50739 | AJ15: =((AI15/AI14-1)*100) -> -9.4137231
... A54: 1953 | B54: 19360 | C54: 213108 | D54: 138567 | E54: 132186 | F54: 66219 | G54: 62674 | H54: 158956 | J54: =C54*1000 -> 213108000 | K54: =D54*1000 -> 138567000 | L54: =E54*1000 -> 132186000 | M54: =F54 -> 66219 | N54: =G54 -> 62674 | O54: =H54 -> 158956 | Q54: =J54/K54 -> 1.5379419 | R54: =K54/M54 -> 2092.5565 | S54: =M54/O54 -> 0.41658698 | T54: =((Q54/Q53-1)*100) -> 3.5042681 | U54: =((R54/R53-1)*100) -> -0.98486263 | V54: =((S54/S53-1)*100) -> -0.1727023 | W54: =SUM(T54:V54) -> 2.3467032 | X54: =Q54*R54*S54 -> 1340.6729 | Y54: =((X54/X53-1)*100) -> 2.3078995 | AB54: =J54/L54 -> 1.6121828 | AC54: =L54/N54 -> 2109.1043 | AD54: =N54/O54 -> 0.39428521 | AE54: =((AB54/AB53-1)*100) -> 3.3497128 | AF54: =((AC54/AC53-1)*100) -> -1.0681625 | AG54: =((AD54/AD53-1)*100) -> 0.060764944 | AH54: =SUM(AE54:AG54) -> 2.3423152 | AI54: =AB54*AC54*AD54 -> 1340.6729 | AJ54: =((AI54/AI53-1)*100) -> 2.3078995

Sheet By Time Period_Historical
A1: Years | B1: GDP/H | C1: H/W | D1: W/POP
A2: 1902-1929 | B2: =AVERAGE(Data_Historical!AE3:AE30) -> 1.7408078 | C2: =AVERAGE(Data_Historical!AF3:AF30) -> -0.31872217 | D2: =AVERAGE(Data_Historical!AG3:AG30) -> 0.26242143 | F2: =SUM(B2:D2) -> 1.6845071
A3: 1929-1941 | B3: =AVERAGE(Data_Historical!T30:T42) -> 2.3745593 | C3: =AVERAGE(Data_Historical!U30:U42) -> -0.75195582 | D3: =AVERAGE(Data_Historical!V30:V42) -> 0.55291684 | F3: =SUM(B3:D3) -> 2.1755203
A4: 1941-1946 | B4: =AVERAGE(Data_Historical!T42:T47) -> 2.7955083 | C4: =AVERAGE(Data_Historical!U42:U47) -> -0.30090195 | D4: =AVERAGE(Data_Historical!V42:V47) -> 2.2303284 | F4: =SUM(B4:D4) -> 4.7249347
A5: 1946-1953 | B5: =AVERAGE(Data_Historical!T47:T54) -> 3.1320542 | C5: =AVERAGE(Data_Historical!U47:U54) -> -1.3314231 | D5: =AVERAGE(Data_Historical!V47:V54) -> -1.77133 | F5: =SUM(B5:D5) -> 0.029301079

Sheet By Time Period_Current
A1: Years | B1: GDP/H | C1: H/W | D1: W/LF | E1: LF/Pop_W | F1: Pop_W/POP
A2: 1949-73 | B2: =AVERAGE(Data_Current!V12:V36) -> 2.7896287 | C2: =AVERAGE(Data_Current!W12:W36) -> -0.29313068 | D2: =AVERAGE(Data_Current!X12:X36) -> -0.039302686 | E2: =AVERAGE(Data_Current!Y12:Y36) -> 0.25420896 | F2: =AVERAGE(Data_Current!Z12:Z36) -> -0.17288998
A3: 1973-1995 | B3: =AVERAGE(Data_Current!V36:V58) -> 1.3324287 | C3: =AVERAGE(Data_Current!W36:W58) -> -0.17963082 | D3: =AVERAGE(Data_Current!X36:X58) -> 0.0069778619 | E3: =AVERAGE(Data_Current!Y36:Y58) -> 0.59269563 | F3: =AVERAGE(Data_Current!Z36:Z58) -> 0.18664992
A4: 1995-2007 | B4: =AVERAGE(Data_Current!V58:V70) -> 2.1130942 | C4: =AVERAGE(Data_Current!W58:W70) -> -0.2415513 | D4: =AVERAGE(Data_Current!X58:X70) -> 0.12055484 | E4: =AVERAGE(Data_Current!Y58:Y70) -> -0.066179171 | F4: =AVERAGE(Data_Current!Z58:Z70) -> 0.22452583
A5: 2007-2024 | B5: =AVERAGE(Data_Current!V70:V87) -> 1.4024163 | C5: =AVERAGE(Data_Current!W70:W87) -> -0.045175964 | D5: =AVERAGE(Data_Current!X70:X87) -> 0.049615723 | E5: =AVERAGE(Data_Current!Y70:Y87) -> 0.16375756 | F5: =AVERAGE(Data_Current!Z70:Z87) -> -0.3014345

Sheet Chart 1 Data
B1: year | C1: country | D1: real gdp per capita, 1990 $ | L1: gdp_regline2 | M1: gdp_reverse
B2: 1870 | C2: USA | D2: 2444.6437 | E2: =LN(D2) -> 7.8016547 | F2: =D2 -> 2444.6437 | G2: =LN(F2) -> 7.8016547 | K2: =K3/1.018 -> 2479.8552
B3: 1871 | C3: USA | D3: 2502.8469 | E3: =LN(D3) -> 7.8251841 | F3: =F2+(F2*$H$154/100) -> 2491.0065 | G3: =LN(F3) -> 7.8204421 | H3: =(-1+D3/D2)*100 -> 2.3808455 | K3: =K4/1.018 -> 2524.4926
B4: 1872 | C4: USA | D4: 2540.9389 | E4: =LN(D4) -> 7.8402889 | F4: =F3+(F3*$H$154/100) -> 2538.2486 | G4: =LN(F4) -> 7.8392296 | H4: =(-1+D4/D3)*100 -> 1.5219473 | K4: =K5/1.018 -> 2569.9335
B5: 1873 | C5: USA | D5: 2604.2526 | E5: =LN(D5) -> 7.864901 | F5: =F4+(F4*$H$154/100) -> 2586.3867 | G5: =LN(F5) -> 7.8580171 | H5: =(-1+D5/D4)*100 -> 2.4917441 | K5: =K6/1.018 -> 2616.1923
B6: 1874 | C6: USA | D6: 2527.255 | E6: =LN(D6) -> 7.834889 | F6: =F5+(F5*$H$154/100) -> 2635.4377 | G6: =LN(F6) -> 7.8768045 | H6: =(-1+D6/D5)*100 -> -2.9566071 | K6: =K7/1.018 -> 2663.2837
B7: 1875 | C7: USA | D7: 2598.5855 | E7: =LN(D7) -> 7.8627225 | F7: =F6+(F6*$H$154/100) -> 2685.4189 | G7: =LN(F7) -> 7.895592 | H7: =(-1+D7/D6)*100 -> 2.822447 | K7: =K8/1.018 -> 2711.2228
B8: 1876 | C8: USA | D8: 2570.3545 | E8: =LN(D8) -> 7.8517991 | F8: =F7+(F7*$H$154/100) -> 2736.3481 | G8: =LN(F8) -> 7.9143795 | H8: =(-1+D8/D7)*100 -> -1.0863969 | K8: =K9/1.018 -> 2760.0249
B9: 1877 | C9: USA | D9: 2595.3936 | E9: =LN(D9) -> 7.8614934 | F9: =F8+(F8*$H$154/100) -> 2788.2431 | G9: =LN(F9) -> 7.933167 | H9: =(-1+D9/D8)*100 -> 0.97414686 | K9: =K10/1.018 -> 2809.7053
B10: 1878 | C10: USA | D10: 2645.9617 | E10: =LN(D10) -> 7.8807899 | F10: =F9+(F9*$H$154/100) -> 2841.1223 | G10: =LN(F10) -> 7.9519544 | H10: =(-1+D10/D9)*100 -> 1.9483808 | K10: =K11/1.018 -> 2860.28
B11: 1879 | C11: USA | D11: 2909.4332 | E11: =LN(D11) -> 7.9757136 | F11: =F10+(F10*$H$154/100) -> 2895.0044 | G11: =LN(F11) -> 7.9707419 | H11: =(-1+D11/D10)*100 -> 9.9574946 | K11: =K12/1.018 -> 2911.765
B12: 1880 | C12: USA | D12: 3183.955 | E12: =LN(D12) -> 8.0658794 | F12: =F11+(F11*$H$154/100) -> 2949.9083 | G12: =LN(F12) -> 7.9895294 | H12: =(-1+D12/D11)*100 -> 9.4355758 | K12: =K13/1.018 -> 2964.1768
B13: 1881 | C13: USA | D13: 3215.4494 | E13: =LN(D13) -> 8.0757224 | F13: =F12+(F12*$H$154/100) -> 3005.8535 | G13: =LN(F13) -> 8.0083168 | H13: =(-1+D13/D12)*100 -> 0.98916161 | K13: =K14/1.018 -> 3017.532
B14: 1882 | C14: USA | D14: 3337.9599 | E14: =LN(D14) -> 8.1131151 | F14: =F13+(F13*$H$154/100) -> 3062.8597 | G14: =LN(F14) -> 8.0271043 | H14: =(-1+D14/D13)*100 -> 3.8100576 | K14: =K15/1.018 -> 3071.8476
... B152: 2020 | C152: USA | D152: 33646.262 | E152: =LN(D152) -> 10.423657 | F152: =F151+(F151*$H$154/100) -> 40936.421 | G152: =LN(F152) -> 10.619775 | H152: =(-1+D152/D151)*100 -> -3.762884 | K152: =K153/1.018 -> 36024.091
B153: 2021 | D153: 35683.582 | F153: =F152+(F152*$H$154/100) -> 41712.783 | K153: =K154/1.018 -> 36672.524
B154: 2022 | D154: 36580.12 | F154: =F153+(F153*$H$154/100) -> 42503.869 | H154: =AVERAGE(H3:H152) -> 1.8965067 | K154: =K155/1.018 -> 37332.63
B155: 2023 | D155: 37636.319 | F155: =F154+(F154*$H$154/100) -> 43309.957 | K155: =K156/1.018 -> 38004.617
B156: 2024 | D156: 38688.7 | F156: =F155+(F155*$H$154/100) -> 44131.334 | J156: =D156 -> 38688.7 | K156: =D156 -> 38688.7 | L156: =D156 -> 38688.7 | M156: =D156 -> 38688.7 | P156: 38688.7
B157: 2025 | F157: =F156+(F156*$H$154/100) -> 44968.287 | J157: =(J156+J156*0.021) -> 39501.163 | K157: =K156+(K156*0.018) -> 39385.097 | L157: 43762.934 | M157: 38102.246 | P157: 39385.097
B158: 2026 | F158: =F157+(F157*$H$154/100) -> 45821.114 | J158: =(J157+J157*0.021) -> 40330.687 | K158: =K157+(K157*0.018) -> 40094.028 | L158: 50790.93 | M158: 36716.02 | P158: 40094.028
B159: 2027 | F159: =F158+(F158*$H$154/100) -> 46690.115 | J159: =(J158+J158*0.021) -> 41177.632 | K159: =K158+(K158*0.018) -> 40815.721 | L159: 60554.184 | M159: 35243.297 | P159: 40815.721
B160: 2028 | F160: =F159+(F159*$H$154/100) -> 47575.596 | J160: =(J159+J159*0.021) -> 42042.362 | K160: =K159+(K159*0.018) -> 41550.404 | L160: 74146.805 | M160: 33678.023 | P160: 41550.404
B161: 2029 | F161: =F160+(F160*$H$154/100) -> 48477.87 | J161: =(J160+J160*0.021) -> 42925.251 | K161: =K160+(K160*0.018) -> 42298.311 | L161: 93100.531 | M161: 32013.723 | P161: 42298.311
B162: 2030 | F162: =F161+(F161*$H$154/100) -> 49397.256 | J162: =(J161+J161*0.021) -> 43826.682 | K162: =K161+(K161*0.018) -> 43059.681 | L162: 119559.82 | M162: 30243.457 | P162: 43059.681
B163: 2031 | F163: =F162+(F162*$H$154/100) -> 50334.078 | J163: =(J162+J162*0.021) -> 44747.042 | K163: =K162+(K162*0.018) -> 43834.755 | L163: 156526.88 | M163: 28359.824 | P163: 43834.755
B164: 2032 | F164: =F163+(F163*$H$154/100) -> 51288.667 | J164: =(J163+J163*0.021) -> 45686.73 | K164: =K163+(K163*0.018) -> 44623.781 | L164: 208204.83 | M164: 26354.867 | P164: 44623.781
B165: 2033 | F165: =F164+(F164*$H$154/100) -> 52261.36 | J165: =(J164+J164*0.021) -> 46646.151 | K165: =K164+(K164*0.018) -> 45427.009 | L165: 280478 | M165: 24220.113 | P165: 45427.009
B166: 2034 | F166: =F165+(F165*$H$154/100) -> 53252.501 | J166: =(J165+J165*0.021) -> 47625.72 | K166: =K165+(K165*0.018) -> 46244.695 | L166: 381584.5 | M166: 21946.461 | P166: 46244.695
B167: 2035 | F167: =F166+(F166*$H$154/100) -> 54262.438 | J167: =(J166+J166*0.021) -> 48625.861 | K167: =K166+(K166*0.018) -> 47077.099 | L167: 523057.72 | M167: 19524.199 | P167: 47077.099
B168: 2036 | F168: =F167+(F167*$H$154/100) -> 55291.529 | J168: =(J167+J167*0.018) -> 49501.126 | K168: =K167+(K167*0.018) -> 47924.487 | L168: 721044.25 | M168: 16942.918 | P168: 47924.487
B169: 2037 | F169: =F168+(F168*$H$154/100) -> 56340.136 | J169: =(J168+J168*0.018) -> 50392.146 | K169: =K168+(K168*0.018) -> 48787.128 | L169: 998149.44 | M169: 14191.492 | P169: 48787.128
B170: 2038 | F170: =F169+(F169*$H$154/100) -> 57408.631 | J170: =(J169+J169*0.018) -> 51299.205 | K170: =K169+(K169*0.018) -> 49665.296 | L170: 1386020.8 | M170: 11258.004 | P170: 49665.296
B171: 2039 | F171: =F170+(F170*$H$154/100) -> 58497.389 | J171: =(J170+J170*0.018) -> 52222.591 | K171: =K170+(K170*0.018) -> 50559.272 | L171: 1928964.8 | M171: 8129.7148 | P171: 50559.272
B172: 2040 | F172: =F171+(F171*$H$154/100) -> 59606.796 | J172: =(J171+J171*0.018) -> 53162.597 | K172: =K171+(K171*0.018) -> 51469.338 | L172: 2689010 | M172: 4792.9883 | P172: 51469.338
B173: 2041 | F173: =F172+(F172*$H$154/100) -> 60737.243 | J173: =(J172+J172*0.018) -> 54119.524 | K173: =K172+(K172*0.018) -> 52395.786 | L173: 3752997.8 | M173: 1233.2306 | P173: 52395.786
B174: 2042 | F174: =F173+(F173*$H$154/100) -> 61889.129 | J174: =(J173+J173*0.018) -> 55093.675 | K174: =K173+(K173*0.018) -> 53338.911 | L174: 5242504.5 | M174: -2565.1677 | P174: 53338.911
B175: 2043 | F175: =F174+(F174*$H$154/100) -> 63062.86 | J175: =(J174+J174*0.018) -> 56085.362 | K175: =K174+(K174*0.018) -> 54299.011 | L175: 7327738.5 | M175: -6618.9258 | P175: 54299.011
B176: 2044 | F176: =F175+(F175*$H$154/100) -> 64258.852 | J176: =(J175+J175*0.018) -> 57094.898 | K176: =K175+(K175*0.018) -> 55276.393 | L176: 10246989 | M176: -10945.895 | P176: 55276.393
B177: 2045 | F177: =F176+(F176*$H$154/100) -> 65477.525 | J177: =(J176+J176*0.018) -> 58122.606 | K177: =K176+(K176*0.018) -> 56271.368 | L177: 14333866 | M177: -15565.215 | P177: 56271.368
B178: 2046 | F178: =F177+(F177*$H$154/100) -> 66719.311 | J178: =(J177+J177*0.018) -> 59168.813 | K178: =K177+(K177*0.018) -> 57284.253 | L178: 20055416 | M178: -20497.34 | P178: 57284.253
B179: 2047 | F179: =F178+(F178*$H$154/100) -> 67984.647 | J179: =(J178+J178*0.018) -> 60233.852 | K179: =K178+(K178*0.018) -> 58315.369 | L179: 28065508 | M179: -25764.184 | P179: 58315.369
... B182: 2050 | F182: =F181+(F181*$H$154/100) -> 71926.468 | J182: =(J181+J181*0.018) -> 63545.378 | K182: =K181+(K181*0.018) -> 61521.422 | L182: 76958528 | M182: -43815.566 | P182: 61521.422

Sheet Birth Rate Data
A1: 1909 *Y | B1: .excel_last | C1: POPBR@USECON
A2: .DESC | C2: US Birth Rate (Births/1000 Population)
A3: .T1 | C3: 1909
A4: .TN | C4: 2023
A5: .LSOURCE | C5: National Center for Health Statistics
A6: .MAG | C6: 0
A7: .GRP | C7: D11
A8: .GRPDESC | C8: Mortality Data by Race
A9: .GEO | C9: 111 | F9: Baby Boom Years
A10: 1909 | B10: 3653 | C10: 30 | F10: 0
A11: 1910 | B11: 4018 | C11: 30.1 | F11: 0
A12: 1911 | B12: 4383 | C12: 29.9 | F12: 0
A13: 1912 | B13: 4749 | C13: 29.8 | F13: 0
A14: 1913 | B14: 5114 | C14: 29.5 | F14: 0
A15: 1914 | B15: 5479 | C15: 29.9 | F15: 0
A16: 1915 | B16: 5844 | C16: 29.5 | F16: 0
A17: 1916 | B17: 6210 | C17: 29.1 | F17: 0
A18: 1917 | B18: 6575 | C18: 28.5 | F18: 0
A19: 1918 | B19: 6940 | C19: 28.2 | F19: 0
A20: 1919 | B20: 7305 | C20: 26.1 | F20: 0
A21: 1920 | B21: 7671 | C21: 27.7 | F21: 0
... A124: 2023 | B124: 45291 | C124: 10.7 | F124: 0
A125: 2024 | B125: 45657 | C125: #N/A | F125: 0
A126: 2025 | B126: 46022 | C126: #N/A | F126: 0

Sheet Labor Force Data
A1: 1948 *Y | B1: .excel_last | C1: LPWT16@USECON | D1: LPMT16@USECON
A2: .DESC | C2: Civilian Participation Rate: Women, 16 Years and Over (SA, %) | D2: Civilian Participation Rate: Men, 16 Years and Over (SA, %)
A3: .T1 | C3: 1948 <- Jan-1948 | D3: 1948 <- Jan-1948
A4: .TN | C4: 2025 <- Mar-2026 | D4: 2025 <- Mar-2026
A5: .LSOURCE | C5: Bureau of Labor Statistics | D5: Bureau of Labor Statistics
A6: .MAG | C6: 0 | D6: 0
A7: .GRP | C7: E02 | D7: E02
A8: .GRPDESC | C8: Household Survey Press Release, SA | D8: Household Survey Press Release, SA
A9: .GEO | C9: 111 | D9: 111
A10: 1948 | B10: 17898 | C10: 32.666667 | D10: 86.583333
A11: 1949 | B11: 18263 | C11: 33.2 | D11: 86.591667 | F11: =((C11/C10)-1)*100 -> 1.6326531 | G11: =((D11/D10)-1)*100 -> 0.0096246391
A12: 1950 | B12: 18628 | C12: 33.825 | D12: 86.25 | F12: =((C12/C11)-1)*100 -> 1.8825301 | G12: =((D12/D11)-1)*100 -> -0.39457223
A13: 1951 | B13: 18993 | C13: 34.641667 | D13: 86.483333 | F13: =((C13/C12)-1)*100 -> 2.4143878 | G13: =((D13/D12)-1)*100 -> 0.2705314
A14: 1952 | B14: 19359 | C14: 34.716667 | D14: 86.258333 | F14: =((C14/C13)-1)*100 -> 0.21650229 | G14: =((D14/D13)-1)*100 -> -0.26016574
A15: 1953 | B15: 19724 | C15: 34.458333 | D15: 86.008333 | F15: =((C15/C14)-1)*100 -> -0.74411906 | G15: =((D15/D14)-1)*100 -> -0.28982707
A16: 1954 | B16: 20089 | C16: 34.566667 | D16: 85.616667 | F16: =((C16/C15)-1)*100 -> 0.31438936 | G16: =((D16/D15)-1)*100 -> -0.45538223
A17: 1955 | B17: 20454 | C17: 35.625 | D17: 85.3 | F17: =((C17/C16)-1)*100 -> 3.0617165 | G17: =((D17/D16)-1)*100 -> -0.36986568
A18: 1956 | B18: 20820 | C18: 36.841667 | D18: 85.516667 | F18: =((C18/C17)-1)*100 -> 3.4152047 | G18: =((D18/D17)-1)*100 -> 0.25400547
A19: 1957 | B19: 21185 | C19: 36.85 | D19: 84.791667 | F19: =((C19/C18)-1)*100 -> 0.022619317 | G19: =((D19/D18)-1)*100 -> -0.84778796
A20: 1958 | B20: 21550 | C20: 37.05 | D20: 84.3 | F20: =((C20/C19)-1)*100 -> 0.54274084 | G20: =((D20/D19)-1)*100 -> -0.57985258
A21: 1959 | B21: 21915 | C21: 37.133333 | D21: 83.733333 | F21: =((C21/C20)-1)*100 -> 0.22492128 | G21: =((D21/D20)-1)*100 -> -0.67220245
A22: 1960 | B22: 22281 | C22: 37.758333 | D22: 83.383333 | F22: =((C22/C21)-1)*100 -> 1.6831239 | G22: =((D22/D21)-1)*100 -> -0.41799363
... A68: 2006 | B68: 39082 | C68: 59.358333 | D68: 73.45 | F68: =((C68/C67)-1)*100 -> 0.21102983 | G68: =((D68/D67)-1)*100 -> 0.21603184
A69: 2007 | B69: 39447 | C69: 59.3 | D69: 73.233333 | F69: =((C69/C68)-1)*100 -> -0.098273199 | G69: =((D69/D68)-1)*100 -> -0.29498525 | I69: =AVERAGE(F69:F87) -> -0.18269136 | J69: =AVERAGE(G69:G87) -> -0.41775466
A70: 2008 | B70: 39813 | C70: 59.483333 | D70: 72.966667 | F70: =((C70/C69)-1)*100 -> 0.30916245 | G70: =((D70/D69)-1)*100 -> -0.36413291
A71: 2009 | B71: 40178 | C71: 59.208333 | D71: 71.966667 | F71: =((C71/C70)-1)*100 -> -0.46231437 | G71: =((D71/D70)-1)*100 -> -1.3704888
A72: 2010 | B72: 40543 | C72: 58.625 | D72: 71.175 | F72: =((C72/C71)-1)*100 -> -0.98522167 | G72: =((D72/D71)-1)*100 -> -1.1000463
A73: 2011 | B73: 40908 | C73: 58.116667 | D73: 70.458333 | F73: =((C73/C72)-1)*100 -> -0.86709311 | G73: =((D73/D72)-1)*100 -> -1.0069079
A74: 2012 | B74: 41274 | C74: 57.675 | D74: 70.158333 | F74: =((C74/C73)-1)*100 -> -0.75996559 | G74: =((D74/D73)-1)*100 -> -0.42578356
A75: 2013 | B75: 41639 | C75: 57.2 | D75: 69.733333 | F75: =((C75/C74)-1)*100 -> -0.82358041 | G75: =((D75/D74)-1)*100 -> -0.60577266
A76: 2014 | B76: 42004 | C76: 56.983333 | D76: 69.208333 | F76: =((C76/C75)-1)*100 -> -0.37878788 | G76: =((D76/D75)-1)*100 -> -0.75286807
A77: 2015 | B77: 42369 | C77: 56.7 | D77: 69.05 | F77: =((C77/C76)-1)*100 -> -0.49722141 | G77: =((D77/D76)-1)*100 -> -0.22877784
A78: 2016 | B78: 42735 | C78: 56.791667 | D78: 69.175 | F78: =((C78/C77)-1)*100 -> 0.16166961 | G78: =((D78/D77)-1)*100 -> 0.18102824
A79: 2017 | B79: 43100 | C79: 57.041667 | D79: 69.083333 | F79: =((C79/C78)-1)*100 -> 0.44020543 | G79: =((D79/D78)-1)*100 -> -0.13251415
A80: 2018 | B80: 43465 | C80: 57.091667 | D80: 69.05 | F80: =((C80/C79)-1)*100 -> 0.087655223 | G80: =((D80/D79)-1)*100 -> -0.048250905
A81: 2019 | B81: 43830 | C81: 57.433333 | D81: 69.15 | F81: =((C81/C80)-1)*100 -> 0.59845278 | G81: =((D81/D80)-1)*100 -> 0.14482259
... A87: 2025 | B87: 46022 | C87: 57.3 | D87: 67.809091 | F87: =((C87/C86)-1)*100 -> -0.34782609 | G87: =((D87/D86)-1)*100 -> -0.21960872

Sheet GDP_Kendrick
A1: Year | B1: GDP in millions of 1929 dollars
A2: 1889 | B2: 24581
A3: 1890 | B3: 26399
A4: 1891 | B4: 27563
A5: 1892 | B5: 30208
A6: 1893 | B6: 28758
A7: 1894 | B7: 27949
A8: 1895 | B8: 31280
A9: 1896 | B9: 30657
A10: 1897 | B10: 33579
A11: 1898 | B11: 34304
A12: 1899 | B12: 37389
A13: 1900 | B13: 38397
... A66: 1953 | B66: 213108
D67: From: Productivity Trends in the United States by Kendrick Table A-III National Product, Commerce Comcept, by Sector, 1869-1957 Pages 298-301

Sheet Hours_Kendrick
A1: Year | B1: Total Manhours, Including Military | C1: Total Manhours, Civilian
A2: 1889 | B2: 60133 | C2: 60049
A3: 1890 | B3: 62280 | C3: 62200
A4: 1891 | B4: 63896 | C4: 63819
A5: 1892 | B5: 66002 | C5: 65923
A6: 1893 | B6: 65309 | C6: 65228
A7: 1894 | B7: 63096 | C7: 63009
A8: 1895 | B8: 66921 | C8: 66834
A9: 1896 | B9: 66917 | C9: 66834
A10: 1897 | B10: 68990 | C10: 68906
A11: 1898 | B11: 69718 | C11: 69343
A12: 1899 | B12: 74558 | C12: 74312
A13: 1900 | B13: 75486 | C13: 75235
... A66: 1953 | B66: 138567 | C66: 132186
E68: From: Productivity Trends in the United States by Kendrick Table A-X National Economy: Manhours, by Major Sector, 1869-1957 Pages 311-313

Sheet Employment_Kendrick
A1: Year | B1: Total Employment, includes military | C1: Total Employment , Civilian
A2: 1889 | B2: 21620 | C2: 21581
A3: 1890 | B3: 22327 | C3: 22290
A4: 1891 | B4: 22890 | C4: 22854
A5: 1892 | B5: 23573 | C5: 23536
A6: 1893 | B6: 23498 | C6: 23.46
A7: 1894 | B7: 23031 | C7: 22990
A8: 1895 | B8: 24209 | C8: 24168
A9: 1896 | B9: 24332 | C9: 24292
A10: 1897 | B10: 25040 | C10: 24999
A11: 1898 | B11: 25400 | C11: 25217
A12: 1899 | B12: 26861 | C12: 26741
A13: 1900 | B13: 27295 | C13: 27172
... A66: 1953 | B66: 66219 | C66: 62674
E68: From: Productivity Trends in the United States by Kendrick Table A-V: Private Economy: Persons Engaged, by Class of Worker, Key Years 1869-1957 Pages 305-307

Sheet Population Data
A1: 1901 *Y | B1: .excel_last | C1: POP@USECON
A2: .DESC | C2: Resident Population: Total [All Ages] (Thous)
A3: .T1 | C3: 1901
A4: .TN | C4: 2025
A5: .LSOURCE | C5: Census Bureau
A6: .MAG | C6: 3
A7: .GRP | C7: D01
A8: .GRPDESC | C8: Resident Population Estimates: By Age & Sex
A9: .GEO | C9: 111
A10: 1901 | B10: 731 | C10: 77584
A11: 1902 | B11: 1096 | C11: 79163
A12: 1903 | B12: 1461 | C12: 80632
A13: 1904 | B13: 1827 | C13: 82166
A14: 1905 | B14: 2192 | C14: 83822
A15: 1906 | B15: 2557 | C15: 85450
A16: 1907 | B16: 2922 | C16: 87008
A17: 1908 | B17: 3288 | C17: 88710
A18: 1909 | B18: 3653 | C18: 90490
A19: 1910 | B19: 4018 | C19: 92407
A20: 1911 | B20: 4383 | C20: 93863
A21: 1912 | B21: 4749 | C21: 95335
... A134: 2025 | B134: 46022 | C134: 341785
